BEGIN:VCALENDAR
VERSION:2.0
PRODID:-//Full Life Arts - ECPv6.15.20//NONSGML v1.0//EN
CALSCALE:GREGORIAN
METHOD:PUBLISH
X-WR-CALNAME:Full Life Arts
X-ORIGINAL-URL:https://full-life-arts.com
X-WR-CALDESC:Events for Full Life Arts
REFRESH-INTERVAL;VALUE=DURATION:PT1H
X-Robots-Tag:noindex
X-PUBLISHED-TTL:PT1H
BEGIN:VTIMEZONE
TZID:America/New_York
BEGIN:DAYLIGHT
TZOFFSETFROM:-0500
TZOFFSETTO:-0400
TZNAME:EDT
DTSTART:20230312T070000
END:DAYLIGHT
BEGIN:STANDARD
TZOFFSETFROM:-0400
TZOFFSETTO:-0500
TZNAME:EST
DTSTART:20231105T060000
END:STANDARD
BEGIN:DAYLIGHT
TZOFFSETFROM:-0500
TZOFFSETTO:-0400
TZNAME:EDT
DTSTART:20240310T070000
END:DAYLIGHT
BEGIN:STANDARD
TZOFFSETFROM:-0400
TZOFFSETTO:-0500
TZNAME:EST
DTSTART:20241103T060000
END:STANDARD
BEGIN:DAYLIGHT
TZOFFSETFROM:-0500
TZOFFSETTO:-0400
TZNAME:EDT
DTSTART:20250309T070000
END:DAYLIGHT
BEGIN:STANDARD
TZOFFSETFROM:-0400
TZOFFSETTO:-0500
TZNAME:EST
DTSTART:20251102T060000
END:STANDARD
END:VTIMEZONE
BEGIN:VEVENT
DTSTART;TZID=America/New_York:20240113T093000
DTEND;TZID=America/New_York:20240113T123000
DTSTAMP:20260421T153718
CREATED:20231028T105144Z
LAST-MODIFIED:20240104T110508Z
UID:10000013-1705138200-1705149000@full-life-arts.com
SUMMARY:Pocket Shrines for Tea Lovers
DESCRIPTION:In this fun and creative 3-hour workshop\, participants will create a tea-themed pocket shrine in a brand-new mint tin. A pocket shrine is a small container which honors a thought or theme. In this workshop\, we will be focusing on the theme of tea in all its serenity and long history. We will use a variety of materials to honor this universal beverage. \nMaterials will include teapot and teacup molded shapes\, charms\, paper punches\, images of the camellia sinensis (tea) plant\, printed tea quotes\, replicas of tea leaves\, and more! You will go home with a miniature piece of art that illustrates your love of tea! \nREGISTER through the SHOP page under “In Person Workshops.” \nSee cancellation policy HERE.
URL:https://full-life-arts.com/event/pocket-shrines-for-tea-lovers-2/
LOCATION:A Southern Cup\, 1529 Greenville Highway\, Hendersonville\, NC\, 28739\, United States
ATTACH;FMTTYPE=image/jpeg:https://full-life-arts.com/wp-content/uploads/shrine-2-inside-crop.jpg
END:VEVENT
END:VCALENDAR